BEGIN:VCALENDAR
VERSION:2.0
PRODID:-//New Concepts For Living - ECPv6.15.20//NONSGML v1.0//EN
CALSCALE:GREGORIAN
METHOD:PUBLISH
X-WR-CALNAME:New Concepts For Living
X-ORIGINAL-URL:https://ncfl.net
X-WR-CALDESC:Events for New Concepts For Living
REFRESH-INTERVAL;VALUE=DURATION:PT1H
X-Robots-Tag:noindex
X-PUBLISHED-TTL:PT1H
BEGIN:VTIMEZONE
TZID:America/New_York
BEGIN:DAYLIGHT
TZOFFSETFROM:-0500
TZOFFSETTO:-0400
TZNAME:EDT
DTSTART:20250309T070000
END:DAYLIGHT
BEGIN:STANDARD
TZOFFSETFROM:-0400
TZOFFSETTO:-0500
TZNAME:EST
DTSTART:20251102T060000
END:STANDARD
BEGIN:DAYLIGHT
TZOFFSETFROM:-0500
TZOFFSETTO:-0400
TZNAME:EDT
DTSTART:20260308T070000
END:DAYLIGHT
BEGIN:STANDARD
TZOFFSETFROM:-0400
TZOFFSETTO:-0500
TZNAME:EST
DTSTART:20261101T060000
END:STANDARD
BEGIN:DAYLIGHT
TZOFFSETFROM:-0500
TZOFFSETTO:-0400
TZNAME:EDT
DTSTART:20270314T070000
END:DAYLIGHT
BEGIN:STANDARD
TZOFFSETFROM:-0400
TZOFFSETTO:-0500
TZNAME:EST
DTSTART:20271107T060000
END:STANDARD
END:VTIMEZONE
BEGIN:VEVENT
DTSTART;TZID=America/New_York:20260508T080000
DTEND;TZID=America/New_York:20260508T170000
DTSTAMP:20260422T100829
CREATED:20260407T182419Z
LAST-MODIFIED:20260410T192841Z
UID:990007822-1778227200-1778259600@ncfl.net
SUMMARY:NCFL Prom Night
DESCRIPTION:Join us for an unforgettable evening inspired by the excitement and elegance of the Kentucky Derby. \nDress to impress and get ready for a night at the races—where music\, dancing\, and Derby-style fun take center stage. \n\nFriday\, May 8 2026 • 6 PM – 10 PMNCFL TOWN SQUARE765 Route 17 Paramus\, NJDonations Appreciated!
URL:https://ncfl.net/events/promnight26/
ATTACH;FMTTYPE=image/png:https://ncfl.net/wp-content/uploads/2026/04/Prom-Night-cover-v4.png
END:VEVENT
BEGIN:VEVENT
DTSTART;VALUE=DATE:20260601
DTEND;VALUE=DATE:20260602
DTSTAMP:20260422T100829
CREATED:20260114T220313Z
LAST-MODIFIED:20260420T190808Z
UID:990007576-1780272000-1780358399@ncfl.net
SUMMARY:NCFL 20th Annual Charity Golf Outing
DESCRIPTION:HONORING GENNARO ROTELLA\nRiver Vale Business Administrator/CFO\,Treasurer\, NCFL Board of Trustee \nGennaro R. Rotella is a respected municipal leader and financial executive with over 30 years of service enhancing local government and community organizations. As Business Administrator and CFO for the Township of River Vale\, he has overseen major improvements in public services and infrastructure. \nAs Golf Committee Chairman and Board Member for New Concepts for Living\, Mr. Rotella is a dedicated advocate for individuals with intellectual and developmental disabilities. His leadership and commitment have had a lasting impact on the community\, making him a valued force for positive change. \nGennaro resides in River Edge and when not working enjoys golfing and snowmobiling and spending time with his beautiful wife Nancy and two children Emily and Christopher\, who is a participant in NCFL’s day and residential program. \n\n			\n			\n				\n				\n				\n				\n			\n				\n				\n				\n				\n				\n				\n				Donate a Raffle Item\n			\n			\n				\n				\n				\n				\n				\n				Register\n			\n			\n				\n				\n				\n				\n				\n				Raffle Tickets\n			\n			\n				\n				\n				\n				\n			\n				\n				\n				\n				\n				\n				\n			\n				\n				\n				\n				\n			\n				\n				\n				\n				\n				\n				\n				\n				\n				\n				\n				REGISTRATION & SPONSORSHIP OPTIONSEDGEWOOD COUNTRY CLUB SOLD OUT\n			\n			\n				\n				\n				\n				\n			\n				\n				\n				\n				\n				\n				\n				\n				\n				\n				\n				SCHEDULE\n			\n				\n				\n				\n				\n				\n\n\nGOLF\n \n\n\nRegistration/Breakfast:\n9:00 am – 11:00 am\n\n\nPutting Contest:\n9:15 am – 10:45 am\n\n\nShotgun Start:\n11:15 am\n\n\n\n \n\n\n\n\n\n\n\n\n\n\nEVENING RECEPTION\n \n\n\nCocktail Reception:\n5:00 pm  –  6:00 pm\n\n\nDinner & Awards:\n6:00 pm  –  8:00 pm\n\n\n\n			\n			\n				\n				\n				\n				\n				\n				\n				\n				\n				\n				\n			\n			\n				\n				\n				\n				\n			\n				\n				\n				\n				\n				\n				\n				\n				\n				\n				\n				Schedule of Events\n			\n				\n				\n				\n				\n				\n\n\nGOLF\n \n\n\nRegistration& Breakfast:\n9:00 am –11:00 am\n\n\nPutting Contest:\n9:15 am\n\n\nShotgun Start:\n11:15 am\n\n\n\n\n\n\nEVENING RECEPTION\n \n\n\nCocktail Reception:\n5:00 pm –6:00 pm\n\n\nDinner & Awards:\n6:00 pm –8:00 pm\n\n\n\n			\n				\n				\n				\n				\n				\n			\n			\n				\n				\n				\n				\n			\n				\n				\n				\n				\n				\n				\n				\n				\n				\n				\n				Registration & Sponsorship OptionsEDGEWOOD COUNTRY CLUB SOLD OUT\n			\n			\n				\n				\n				\n				\n			\n				\n				\n				\n				\n				\n				\n				\n				\n				\n				\n				GOLF & DINNER\n\n\n\nSingle Golfer\n$650\n\n\nIncludes breakfast\, lunch & dinner\n \n\n\nFoursome\n$2\,600\n\n\nIncludes breakfast\, lunch & dinner\n\n\nDinner Ticket Only \n$185\n\n\nDinner and Donation\n$250\n\n\nIncludes listing in the ad journal\n \n\n\n\n			\n				\n				\n				\n				\n				\n			\n				\n				\n				\n				\n				\n			\n				\n				\n				\n				\n				\n			\n			\n				\n				\n				\n				\n				\n				\n				\n				\n				\n				GOLF & PLAY SPONSORSHIPS\n\n\n\n\n\n\n\nPresenting SponsorThree Golf Foursomes (Includes dinner)Twelve Additional Dinner TicketsLogo/name on all Golf Outing marketing materials and on-site signageRecognition on website and social mediaLarge banner at RegistrationOptions to make remarks at Awards DinnerLogo/name included on a dedicated player  giveaway itemListing on all tee signs as “Presented By”Inside front cover in Ad Journal\n$20\,000\n\n\nDiamond SponsorTwo Golf FoursomesEight Additional Dinner TicketsNine Tee SignsFull page in Ad Journal\n$10\,000\n\n\nPlatinum SponsorGolf FoursomeFour Additional Dinner TicketsSix Tee SignsFull Page in Ad Journal\n$7\,500\n\n\nGold SponsorGolf FoursomeSign on Putting GreenFull page in Ad Journal\n$5\,000\n\n\nSilver SponsorGolf TwosomeSign on Driving Range1/2 page in Ad Journal\n$2\,500\n\n\nBeverage Cart Sponsor\n$2\,000\n\n\nSignage on Beverage Cart and listing in Ad Journal\n \n\n\nBreakfast Sponsor\n$1\,500\n\n\nSignage at Breakfast and listing in Ad Journal\n \n\n\nLunch Sponsor\n$1\,500\n\n\nSignage at Lunch and listing in Ad Journal\n \n\n\nDriving Range Sponsor\n$750\n\n\nSignage on Driving Range and listing in Ad Journal\n \n\n\nPutting Green Sponsor\n$750\n\n\nSignage on Putting Green and listing in Ad Journal\n \n\n\nHole Sponsor\n$500\n\n\nSignage at one hole and listing in Ad Journal\n \n\n\nAd Journal\n \n\n\nBack Cover\n$1\,500\n\n\nInside Back Cover\n$1\,000\n\n\nFull Page\n$750\n\n\nHalf Page\n$500\n\n\nQuarter Page\n$200\n\n\nBusiness Card\n$150\n\n\nPatron Listing\n$100\n\n\n\nAll sponsors will have their logo/name listed on all golf outing marketing materials\, on-site signage\, NCFL website and social media. \n			\n				Register or Sponsor\n			\n			\n				\n				\n				\n				\n			\n				\n				\n				\n				\n				\n				\n				\n				\n				\n				\n				\n				\n				\n					\n				\n			\n			\n				\n				\n				\n				\n			\n				\n				\n				\n				\n				\n				\n				\n				\n				\n				\n				PURCHASE YOUR CASH RAFFLE TICKETS TODAY!\n			\n				\n				\n				\n				\n				\n			\n				\n				\n				\n				\n				You may purchase raffle tickets below in the “Register & Sponsor” section. \nIf you would like to purchase and pay with Venmo or checkOR if you would like to help NCFL sell raffle tickets\, please e-mail fundraising@ncfl.net. \n			\n				\n				\n				\n				\n				Register & Sponsor
URL:https://ncfl.net/events/golf2026/
CATEGORIES:Annual Golf Outing,Fundraising Events
ATTACH;FMTTYPE=image/png:https://ncfl.net/wp-content/uploads/2025/02/2025-NCFL-Golf-Outing-Event-1.png
END:VEVENT
END:VCALENDAR