BEGIN:VCALENDAR
VERSION:2.0
PRODID:-//New Concepts For Living - ECPv6.15.20//NONSGML v1.0//EN
CALSCALE:GREGORIAN
METHOD:PUBLISH
X-WR-CALNAME:New Concepts For Living
X-ORIGINAL-URL:https://ncfl.net
X-WR-CALDESC:Events for New Concepts For Living
REFRESH-INTERVAL;VALUE=DURATION:PT1H
X-Robots-Tag:noindex
X-PUBLISHED-TTL:PT1H
BEGIN:VTIMEZONE
TZID:America/New_York
BEGIN:DAYLIGHT
TZOFFSETFROM:-0500
TZOFFSETTO:-0400
TZNAME:EDT
DTSTART:20220313T070000
END:DAYLIGHT
BEGIN:STANDARD
TZOFFSETFROM:-0400
TZOFFSETTO:-0500
TZNAME:EST
DTSTART:20221106T060000
END:STANDARD
BEGIN:DAYLIGHT
TZOFFSETFROM:-0500
TZOFFSETTO:-0400
TZNAME:EDT
DTSTART:20230312T070000
END:DAYLIGHT
BEGIN:STANDARD
TZOFFSETFROM:-0400
TZOFFSETTO:-0500
TZNAME:EST
DTSTART:20231105T060000
END:STANDARD
BEGIN:DAYLIGHT
TZOFFSETFROM:-0500
TZOFFSETTO:-0400
TZNAME:EDT
DTSTART:20240310T070000
END:DAYLIGHT
BEGIN:STANDARD
TZOFFSETFROM:-0400
TZOFFSETTO:-0500
TZNAME:EST
DTSTART:20241103T060000
END:STANDARD
END:VTIMEZONE
BEGIN:VEVENT
DTSTART;TZID=America/New_York:20231114T110000
DTEND;TZID=America/New_York:20231114T140000
DTSTAMP:20260423T144412
CREATED:20231113T153058Z
LAST-MODIFIED:20231113T154444Z
UID:990005528-1699959600-1699970400@ncfl.net
SUMMARY:NCFL Open House
DESCRIPTION:New Concepts for Living (NCFL) is dedicated to continuing our expansion and provide quality services for additional extraordinary individuals in New Jersey. \nJoin us on Tuesday\, November 14 for a tour of our latest home (a beautiful 4-bedroom Ranch) located at 860 Westwood Avenue in River Vale.\nWe look forward to seeing you there! \nVisit any time between 11:00 AM and 2:00 PM to: \n• Learn About NCFL’s Services (presentations to take place 11:30; 12:30 and 1:30)\n• Meet Some of our Dedicated Team\n• Network with Parents and Support Coordinators \nPlus – enjoy a complimentary gourmet lunch provided by Tarrytown Expocare Pharmacy. \nRSVP recommended but not required. If you would like to RSVP\, click here.
URL:https://ncfl.net/events/ncfl-open-house/
LOCATION:860 Westwood Avenue\, River Vale\, NJ 07675\, 860 Westwood Avenue\, River Vale\, NJ\, 07675\, United States
END:VEVENT
END:VCALENDAR